BEGIN:VCALENDAR
VERSION:2.0
PRODID:-//Tukios.com/
BEGIN:VEVENT
UID:00905ef2-a31b-4a31-99a5-8b5f89d91eb1@www.withersandwhisenantfuneral.com
DTSTAMP:20260425T215534Z
DTSTART:20260428T220000Z
DTEND:20260429T000000Z
SUMMARY:Visitation
DESCRIPTION:
URL:https://www.withersandwhisenantfuneral.com/obituaries/deborah-richardson
LOCATION: 2916 Union Road  Gastonia NC 28054
GEO:35.2188975;-81.1665259
END:VEVENT
END:VCALENDAR