BEGIN:VCALENDAR
VERSION:2.0
PRODID:-//Tukios.com/
BEGIN:VEVENT
UID:1084e6e6-46ca-4fad-b4c1-9538c6a030d6@www.withersandwhisenantfuneral.com
DTSTAMP:20260425T215152Z
DTSTART:20260429T160000Z
DTEND:20260429T170000Z
SUMMARY:Funeral Service
DESCRIPTION:
URL:https://www.withersandwhisenantfuneral.com/obituaries/deborah-richardson
LOCATION: 2916 Union Road  Gastonia NC 28054
GEO:35.2188975;-81.1665259
END:VEVENT
END:VCALENDAR