BEGIN:VCALENDAR
VERSION:2.0
PRODID:-//Tukios.com/
BEGIN:VEVENT
UID:71ce4645-0066-4d1c-ac8a-fa9f857f072c@www.withersandwhisenantfuneral.com
DTSTAMP:20260425T214825Z
DTSTART:20260429
SUMMARY:Burial
DESCRIPTION:
URL:https://www.withersandwhisenantfuneral.com/obituaries/deborah-richardson
LOCATION: 2205 Williamsburg Drive  Gastonia NC 28054
GEO:35.2477131;-81.1425104
END:VEVENT
END:VCALENDAR