BEGIN:VCALENDAR
VERSION:2.0
PRODID:-//Tukios.com/
BEGIN:VEVENT
UID:dd488c1b-31ad-4067-ba39-59f5b1296e8c@www.withersandwhisenantfuneral.com
DTSTAMP:20260422T211933Z
DTSTART:20260424T150000Z
DTEND:20260424T160000Z
SUMMARY:Graveside Service
DESCRIPTION:
URL:https://www.withersandwhisenantfuneral.com/obituaries/helen-long
LOCATION: 1462 Armstrong Ford Rd  Belmont NC 28012
GEO:35.2146903;-81.0700755
END:VEVENT
END:VCALENDAR