BEGIN:VCALENDAR
VERSION:2.0
PRODID:-//Tukios.com/
BEGIN:VEVENT
UID:e906f1b4-8108-46ab-beb2-352d7a908084@www.withersandwhisenantfuneral.com
DTSTAMP:20260423T183852Z
DTSTART:20260427T153000Z
DTEND:20260427T170000Z
SUMMARY:Visitation
DESCRIPTION:
URL:https://www.withersandwhisenantfuneral.com/obituaries/joseph-creighton
LOCATION:Calvary Baptist Church 3001 York Hwy  Gastonia NC 28052
GEO:35.2239884;-81.2005239
END:VEVENT
END:VCALENDAR