BEGIN:VCALENDAR
VERSION:2.0
PRODID:-//Tukios.com/
BEGIN:VEVENT
UID:19ae4e48-becc-46f6-87dc-e415ccaa14dd@www.withersandwhisenantfuneral.com
DTSTAMP:20260423T183842Z
DTSTART:20260427T170000Z
DTEND:20260427T180000Z
SUMMARY:Celebration of Life
DESCRIPTION:
URL:https://www.withersandwhisenantfuneral.com/obituaries/joseph-creighton
LOCATION: 3001 York Hwy  Gastonia NC 28052
GEO:35.2240279;-81.2006274
END:VEVENT
END:VCALENDAR