BEGIN:VCALENDAR
VERSION:2.0
PRODID:-//Tukios.com/
BEGIN:VEVENT
UID:40c24807-5968-4034-a089-7e54772c2626@www.withersandwhisenantfuneral.com
DTSTAMP:20260423T184035Z
DTSTART:20260427T181500Z
DTEND:20260427T191500Z
SUMMARY:Burial
DESCRIPTION:
URL:https://www.withersandwhisenantfuneral.com/obituaries/joseph-creighton
LOCATION:Westview Gardens Cemetery 1123 Edgewood Rd  Bessemer City NC 
	28016
GEO:35.2723788;-81.2637886
END:VEVENT
END:VCALENDAR