BEGIN:VCALENDAR
VERSION:2.0
PRODID:-//Tukios.com/
BEGIN:VEVENT
UID:04efadd9-c9bd-48be-a5ff-fe40b6d15d39@www.withersandwhisenantfuneral.com
DTSTAMP:20260424T014903Z
DTSTART:20260425T140000Z
DTEND:20260425T150000Z
SUMMARY:Visitation
DESCRIPTION:
URL:https://www.withersandwhisenantfuneral.com/obituaries/kathie-brandon
LOCATION:St Paul's Lutheran Church 531 Hardin Rd  Dallas NC 28034
GEO:35.3800333;-81.1926196
END:VEVENT
END:VCALENDAR