BEGIN:VCALENDAR
VERSION:2.0
PRODID:-//Tukios.com/
BEGIN:VEVENT
UID:697315ac-f525-4658-8d1c-c99d02db7f9e@www.withersandwhisenantfuneral.com
DTSTAMP:20260424T014127Z
DTSTART:20260425T150000Z
DTEND:20260425T170000Z
SUMMARY:Funeral Service
DESCRIPTION:
URL:https://www.withersandwhisenantfuneral.com/obituaries/kathie-brandon
LOCATION: 531 Hardin Rd  Dallas NC 28034
GEO:35.3800333;-81.1926196
END:VEVENT
END:VCALENDAR