BEGIN:VCALENDAR
VERSION:2.0
PRODID:-//Tukios.com/
BEGIN:VEVENT
UID:28c09418-b6f8-4628-907a-61646d3b7730@www.withersandwhisenantfuneral.com
DTSTAMP:20260424T014339Z
DTSTART:20260425
SUMMARY:Burial
DESCRIPTION:
URL:https://www.withersandwhisenantfuneral.com/obituaries/kathie-brandon
LOCATION: 531 Hardin Rd  Dallas NC 28034
GEO:35.3800333;-81.1926196
END:VEVENT
END:VCALENDAR